BEGIN:VCALENDAR
VERSION:2.0
PRODID:-//Library Market//iCal Export//EN
BEGIN:VEVENT
SUMMARY:DIY Cloud Lights
UID:17921
DTSTAMP:20260425T135900Z
DTSTART:20260519T193000Z
DTEND:20260519T210000Z
LOCATION:Penn Hills Library, 1037 Stotler Rd, Pittsburgh, PA 15235, United
  States
ROOM: Teen Space
DESCRIPTION:Use stuffing and paper lanterns to create a cloud light!
URL:https://pennhills.librarycalendar.com/event/diy-cloud-lights-17921
END:VEVENT
END:VCALENDAR
