BEGIN:VCALENDAR
VERSION:2.0
PRODID:-//Library Market//iCal Export//EN
BEGIN:VEVENT
SUMMARY:Pride Party!
UID:17719
DTSTAMP:20260425T220800Z
DTSTART:20260627T170000Z
DTEND:20260627T190000Z
LOCATION:Penn Hills Library, 1037 Stotler Rd, Pittsburgh, PA 15235, United
  States
ROOM: Pride Party!
DESCRIPTION:Celebrate Pride Month at the library with tarot &amp; astrolog
 y readings, personalized book recommendations, and pride crafts including 
 custom buttons and shrinky-dink key chains. 
URL:https://pennhills.librarycalendar.com/event/pride-party-17719
END:VEVENT
END:VCALENDAR
